BEGIN:VCALENDAR
VERSION:2.0
PRODID:-//ARTe VallARTa Museo - ECPv6.15.19//NONSGML v1.0//EN
CALSCALE:GREGORIAN
METHOD:PUBLISH
X-ORIGINAL-URL:https://artevallartamuseo.mx
X-WR-CALDESC:Events for ARTe VallARTa Museo
REFRESH-INTERVAL;VALUE=DURATION:PT1H
X-Robots-Tag:noindex
X-PUBLISHED-TTL:PT1H
BEGIN:VTIMEZONE
TZID:America/Mexico_City
BEGIN:STANDARD
TZOFFSETFROM:-0600
TZOFFSETTO:-0600
TZNAME:CST
DTSTART:20240101T000000
END:STANDARD
END:VTIMEZONE
BEGIN:VEVENT
DTSTART;TZID=America/Mexico_City:20250420T140000
DTEND;TZID=America/Mexico_City:20250420T160000
DTSTAMP:20260420T183310
CREATED:20241012T174035Z
LAST-MODIFIED:20241012T204724Z
UID:94476-1745157600-1745164800@artevallartamuseo.mx
SUMMARY:David Duvall Celebrates The Songs of Frank Loesser
DESCRIPTION:  \n  \n 
URL:https://artevallartamuseo.mx/calendar2/david-duvall-04202025/
LOCATION:ART VallARTa ART Center\, Calle Pilitas 213\, Puerto Vallarta\, JAL\, 48380\, Mexico
CATEGORIES:Events
ATTACH;FMTTYPE=image/jpeg:https://artevallartamuseo.mx/wp-content/uploads/2024/10/DSC_4156AUSTON-JAMES2021-cropped-scaled.jpg
END:VEVENT
END:VCALENDAR