BEGIN:VCALENDAR
VERSION:2.0
PRODID:-//ARTe VallARTa Museo - ECPv6.15.19//NONSGML v1.0//EN
CALSCALE:GREGORIAN
METHOD:PUBLISH
X-WR-CALNAME:ARTe VallARTa Museo
X-ORIGINAL-URL:https://artevallartamuseo.mx
X-WR-CALDESC:Events for ARTe VallARTa Museo
REFRESH-INTERVAL;VALUE=DURATION:PT1H
X-Robots-Tag:noindex
X-PUBLISHED-TTL:PT1H
BEGIN:VTIMEZONE
TZID:UTC
BEGIN:STANDARD
TZOFFSETFROM:+0000
TZOFFSETTO:+0000
TZNAME:UTC
DTSTART:20220101T000000
END:STANDARD
END:VTIMEZONE
BEGIN:VTIMEZONE
TZID:America/Mexico_City
BEGIN:DAYLIGHT
TZOFFSETFROM:-0600
TZOFFSETTO:-0500
TZNAME:CDT
DTSTART:20210404T080000
END:DAYLIGHT
BEGIN:STANDARD
TZOFFSETFROM:-0500
TZOFFSETTO:-0600
TZNAME:CST
DTSTART:20211031T070000
END:STANDARD
BEGIN:DAYLIGHT
TZOFFSETFROM:-0600
TZOFFSETTO:-0500
TZNAME:CDT
DTSTART:20220403T080000
END:DAYLIGHT
BEGIN:STANDARD
TZOFFSETFROM:-0500
TZOFFSETTO:-0600
TZNAME:CST
DTSTART:20221030T070000
END:STANDARD
END:VTIMEZONE
BEGIN:VEVENT
DTSTART;TZID=UTC:20230220T100000
DTEND;TZID=UTC:20230220T120000
DTSTAMP:20260420T090736
CREATED:20230128T213818Z
LAST-MODIFIED:20240116T171644Z
UID:90018-1676887200-1676894400@artevallartamuseo.mx
SUMMARY:Painting on Silk with Carol Anne Anderson
DESCRIPTION:Class is for two days January 29\, 30\, 2024 or February 26\,27\, 2024- 10:00am-12:00pm \nIn this 2-day class you will create a silk 2 x72” shawl/scarf and a 22 x 22” pillow\, both 100% silk. We will use gutta (not the cheese) and get lost in the yummy colors that you can mix and blend. We will use two types of dyes\, gutta and salt and of course silk. Oh Baby!!!!!!
URL:https://artevallartamuseo.mx/calendar2/painting-on-silk-with-carol-anne-anderson/
LOCATION:ART VallARTa ART Center\, Calle Pilitas 213\, Puerto Vallarta\, JAL\, 48380\, Mexico
CATEGORIES:Applied Arts Classes,Education
ATTACH;FMTTYPE=image/jpeg:https://artevallartamuseo.mx/wp-content/uploads/2023/01/carol-anne-anderson-at-her-silk-painting-class-Art-Vallarta.jpg
END:VEVENT
BEGIN:VEVENT
DTSTART;TZID=America/Mexico_City:20220928T100000
DTEND;TZID=America/Mexico_City:20220928T170000
DTSTAMP:20260420T090736
CREATED:20220928T005555Z
LAST-MODIFIED:20231007T180710Z
UID:88978-1664359200-1664384400@artevallartamuseo.mx
SUMMARY:Exhibition: Raices Coloridas
DESCRIPTION:Beautiful paintings\, sculpture and decorative art from the 13th century to the present day.
URL:https://artevallartamuseo.mx/calendar2/exhibition-raices-coloridas/
LOCATION:ARTe VallARTa Museo\, G. Prieto 164\, Puerto Vallarta\, JAL\, 48389\, Mexico
CATEGORIES:Exhibitions
ATTACH;FMTTYPE=image/jpeg:https://artevallartamuseo.mx/wp-content/uploads/2022/04/updatedRaices.jpg
END:VEVENT
BEGIN:VEVENT
DTSTART;TZID=America/Mexico_City:20230422T100000
DTEND;TZID=America/Mexico_City:20230422T170000
DTSTAMP:20260420T090736
CREATED:20230419T202544Z
LAST-MODIFIED:20230506T181401Z
UID:90525-1682157600-1682182800@artevallartamuseo.mx
SUMMARY:Exhibition: Won Lee - Continuous Variation – An ethical way of living
DESCRIPTION:
URL:https://artevallartamuseo.mx/calendar2/won-lee-continuous-variation/
LOCATION:ARTe VallARTa Museo\, G. Prieto 164\, Puerto Vallarta\, JAL\, 48389\, Mexico
CATEGORIES:Exhibitions
ATTACH;FMTTYPE=image/jpeg:https://artevallartamuseo.mx/wp-content/uploads/2023/04/WonLeesPromo-web.jpg
END:VEVENT
BEGIN:VEVENT
DTSTART;TZID=America/Mexico_City:20230508T110000
DTEND;TZID=America/Mexico_City:20230508T120000
DTSTAMP:20260420T090736
CREATED:20230506T173503Z
LAST-MODIFIED:20230506T173505Z
UID:90660-1683543600-1683547200@artevallartamuseo.mx
SUMMARY:Conversational Spanish
DESCRIPTION:We encourage students to have basic and complex conversations using already known words\, and by introducing words as we move further along the course. Don’t be hesitant to learn how to speak the second most spoken language in the world.
URL:https://artevallartamuseo.mx/calendar2/conversational-spanish-2/
LOCATION:ART VallARTa ART Center\, Calle Pilitas 213\, Puerto Vallarta\, JAL\, 48380\, Mexico
CATEGORIES:Education,Language Classes
ATTACH;FMTTYPE=image/jpeg:https://artevallartamuseo.mx/wp-content/uploads/2022/09/Mexican-Flag-750x375-1.jpg
END:VEVENT
END:VCALENDAR