BEGIN:VCALENDAR
VERSION:2.0
PRODID:-//ARTe VallARTa Museo - ECPv6.15.19//NONSGML v1.0//EN
CALSCALE:GREGORIAN
METHOD:PUBLISH
X-WR-CALNAME:ARTe VallARTa Museo
X-ORIGINAL-URL:https://artevallartamuseo.mx
X-WR-CALDESC:Events for ARTe VallARTa Museo
REFRESH-INTERVAL;VALUE=DURATION:PT1H
X-Robots-Tag:noindex
X-PUBLISHED-TTL:PT1H
BEGIN:VTIMEZONE
TZID:America/Mexico_City
BEGIN:DAYLIGHT
TZOFFSETFROM:-0600
TZOFFSETTO:-0500
TZNAME:CDT
DTSTART:20210404T080000
END:DAYLIGHT
BEGIN:STANDARD
TZOFFSETFROM:-0500
TZOFFSETTO:-0600
TZNAME:CST
DTSTART:20211031T070000
END:STANDARD
BEGIN:DAYLIGHT
TZOFFSETFROM:-0600
TZOFFSETTO:-0500
TZNAME:CDT
DTSTART:20220403T080000
END:DAYLIGHT
BEGIN:STANDARD
TZOFFSETFROM:-0500
TZOFFSETTO:-0600
TZNAME:CST
DTSTART:20221030T070000
END:STANDARD
END:VTIMEZONE
BEGIN:VTIMEZONE
TZID:UTC
BEGIN:STANDARD
TZOFFSETFROM:+0000
TZOFFSETTO:+0000
TZNAME:UTC
DTSTART:20210101T000000
END:STANDARD
END:VTIMEZONE
BEGIN:VEVENT
DTSTART;TZID=America/Mexico_City:20220928T100000
DTEND;TZID=America/Mexico_City:20220928T170000
DTSTAMP:20260419T211304
CREATED:20220928T005555Z
LAST-MODIFIED:20231007T180710Z
UID:88978-1664359200-1664384400@artevallartamuseo.mx
SUMMARY:Exhibition: Raices Coloridas
DESCRIPTION:Beautiful paintings\, sculpture and decorative art from the 13th century to the present day.
URL:https://artevallartamuseo.mx/calendar2/exhibition-raices-coloridas/
LOCATION:ARTe VallARTa Museo\, G. Prieto 164\, Puerto Vallarta\, JAL\, 48389\, Mexico
CATEGORIES:Exhibitions
ATTACH;FMTTYPE=image/jpeg:https://artevallartamuseo.mx/wp-content/uploads/2022/04/updatedRaices.jpg
END:VEVENT
BEGIN:VEVENT
DTSTART;TZID=UTC:20221022T100000
DTEND;TZID=UTC:20221022T170000
DTSTAMP:20260419T211304
CREATED:20221007T020453Z
LAST-MODIFIED:20221007T031750Z
UID:89213-1666432800-1666458000@artevallartamuseo.mx
SUMMARY:Exhibition: a sad hair series
DESCRIPTION:
URL:https://artevallartamuseo.mx/calendar2/sadhair/
LOCATION:ARTe VallARTa Museo\, G. Prieto 164\, Puerto Vallarta\, JAL\, 48389\, Mexico
CATEGORIES:Exhibitions
ATTACH;FMTTYPE=image/jpeg:https://artevallartamuseo.mx/wp-content/uploads/2022/10/WhatsApp-Image-2022-10-06-at-11.34.27-AM-1.jpeg
END:VEVENT
BEGIN:VEVENT
DTSTART;TZID=UTC:20221029T100000
DTEND;TZID=UTC:20221029T170000
DTSTAMP:20260419T211304
CREATED:20221025T012306Z
LAST-MODIFIED:20221025T012345Z
UID:89301-1667037600-1667062800@artevallartamuseo.mx
SUMMARY:Exhibition: Dia de Los Muertos - Altars & Art
DESCRIPTION:
URL:https://artevallartamuseo.mx/calendar2/exhibition-dia-de-los-muertos-altars-art/
LOCATION:ARTe VallARTa Museo\, G. Prieto 164\, Puerto Vallarta\, JAL\, 48389\, Mexico
CATEGORIES:Exhibitions
ATTACH;FMTTYPE=image/jpeg:https://artevallartamuseo.mx/wp-content/uploads/2022/10/WhatsApp-Image-2022-10-23-at-7.25.35-PM.jpeg
END:VEVENT
BEGIN:VEVENT
DTSTART;TZID=UTC:20220928T110000
DTEND;TZID=UTC:20220928T120000
DTSTAMP:20260419T211304
CREATED:20220928T004541Z
LAST-MODIFIED:20221004T204104Z
UID:88973-1664362800-1664366400@artevallartamuseo.mx
SUMMARY:Conversational Spanish
DESCRIPTION:We encourage students to have basic and complex conversations using already known words\, and by introducing words as we move further along the course. Don’t be hesitant to learn how to speak the second most spoken language in the world.
URL:https://artevallartamuseo.mx/calendar2/conversational-spanish/
LOCATION:ART VallARTa ART Center\, Calle Pilitas 213\, Puerto Vallarta\, JAL\, 48380\, Mexico
CATEGORIES:Education,Language Classes
ATTACH;FMTTYPE=image/jpeg:https://artevallartamuseo.mx/wp-content/uploads/2022/09/Mexican-Flag-750x375-1.jpg
END:VEVENT
END:VCALENDAR